BEGIN:VCALENDAR
VERSION:2.0
PRODID:-//Q2//App//EN
CALSCALE:GREGORIAN
METHOD:PUBLISH
BEGIN:VTIMEZONE
TZID:America/Toronto
BEGIN:STANDARD
DTSTART:20271107T010000
TZOFFSETFROM:-0400
TZOFFSETTO:-0500
TZNAME:EST
END:STANDARD
BEGIN:DAYLIGHT
DTSTART:20270314T030000
TZOFFSETFROM:-0500
TZOFFSETTO:-0400
TZNAME:EDT
END:DAYLIGHT
END:VTIMEZONE
BEGIN:VEVENT
UID:24@wecontinue.org
DTSTAMP:20260421T100020Z
DTSTART;TZID=America/Toronto:20250119T130000
DTEND;TZID=America/Toronto:20250119T170000
SUMMARY:DD Mtl - Rented Room Meet-up
STATUS:CONFIRMED
DESCRIPTION:Hello Don't Die Montréal! \n \nKicking off the new year\, 20
 25's first event will be taking place in a beautiful rented room on Januar
 y 19th (1pm) at the following location: \n4030 Saint Ambroise St\, Montre
 al\, QC H4C 2E1 \nThe room number is #226\, and can be found on the secon
 d floor. \n \nOver the course of 2024\, our community held monthly event
 s of all kinds\, seeking to connect people wanting to meaningfully improve
  their physical\, mental and social wellness. \n \n As of 2025\, these 
 events will once again be posted through the River App\, though they can a
 lso be found on our page:\nhttps://joindontdie.com/ \n And within it\, y
 ou can gain access to our WhatsApp group chat. \n \nThis event will be s
 impler than most. Traditionally we'd do a novel physical or mental activit
 y\, but for the new year this will be an opportunity for us to properly me
 et and engage with one another. \n \nIf you're curious to find out more 
 about your fellow Montreal Don't Die enthusiasts\, this is the event for y
 ou. \n-Anrif
X-ALT-DESC;FMTTYPE=text/html:<!-- wp:paragraph -->\n<p>Hello Don't Die Mont
 réal! <br> <br>Kicking off the new year\, 2025's first event will be ta
 king place in a beautiful rented room on January 19th (1pm) at the followi
 ng location: <br>4030 Saint Ambroise St\, Montreal\, QC H4C 2E1 <br>The 
 room number is #226\, and can be found on the second floor. <br> <br>Ove
 r the course of 2024\, our community held monthly events of all kinds\, se
 eking to connect people wanting to meaningfully improve their physical\, m
 ental and social wellness. <br> <br> As of 2025\, these events will onc
 e again be posted through the River App\, though they can also be found on
  our page:<br><a href="https://joindontdie.com/" target="_blank" rel="nore
 ferrer noopener">https://joindontdie.com/</a> <br> And within it\, you c
 an gain access to our WhatsApp group chat. <br> <br>This event will be s
 impler than most. Traditionally we'd do a novel physical or mental activit
 y\, but for the new year this will be an opportunity for us to properly me
 et and engage with one another. <br> <br>If you're curious to find out m
 ore about your fellow Montreal Don't Die enthusiasts\, this is the event f
 or you. <br>-Anrif</p>\n<!-- /wp:paragraph -->
URL:https://www.wecontinue.org/events/dd-mtl-rented-room-meet-up/
LAST-MODIFIED:20250317T201430Z
CREATED:20250219T214843Z
BEGIN:VALARM
TRIGGER:-PT1H
ACTION:DISPLAY
DESCRIPTION:Event reminder
END:VALARM
END:VEVENT
END:VCALENDAR
