BEGIN:VCALENDAR
VERSION:2.0
PRODID:-//Q2//App//EN
CALSCALE:GREGORIAN
METHOD:PUBLISH
BEGIN:VTIMEZONE
TZID:America/Toronto
BEGIN:STANDARD
DTSTART:20271107T010000
TZOFFSETFROM:-0400
TZOFFSETTO:-0500
TZNAME:EST
END:STANDARD
BEGIN:DAYLIGHT
DTSTART:20270314T030000
TZOFFSETFROM:-0500
TZOFFSETTO:-0400
TZNAME:EDT
END:DAYLIGHT
END:VTIMEZONE
BEGIN:VEVENT
UID:25@wecontinue.org
DTSTAMP:20260421T095534Z
DTSTART;TZID=America/Toronto:20250323T001424
DTEND;TZID=America/Toronto:20250323T001424
SUMMARY:DD Mtl - Escaparium Escape Room (Time TBD)
STATUS:CONFIRMED
DESCRIPTION:https://www.escaparium.ca/montreal-escape-game/rooms/ \n\nTeam 
 building\, problem solving and a time bound challenge. What better way to 
 hone oneâ€™s mind than with an escape room challenge! \n\nDepending on gro
 up interest and size\, we may do either one room as a large group\, or two
  rooms split in two. That being said\, this location was chosen for their 
 larger accommodation capacity ðŸ˜‰. \n\nThe location is somewhat isolated 
 from downtown Montreal\, but I will be offering carpool services for those
  in need. Swing by should you be curious to meet-up with your fellow Donâ€
 ™t Dieâ€™ers! \n-Anrif \n\n(Specific time to be determined later with grou
 p reservations)
X-ALT-DESC;FMTTYPE=text/html:<!-- wp:paragraph -->\n<p><a href="https://www
 .escaparium.ca/montreal-escape-game/rooms/" target="_blank" rel="noreferre
 r noopener">https://www.escaparium.ca/montreal-escape-game/rooms/</a> </p>
 \n<!-- /wp:paragraph -->\n\n<!-- wp:paragraph -->\n<p>Team building\, prob
 lem solving and a time bound challenge. What better way to hone oneâ€™s mi
 nd than with an escape room challenge! </p>\n<!-- /wp:paragraph -->\n\n<!-
 - wp:paragraph -->\n<p>Depending on group interest and size\, we may do ei
 ther one room as a large group\, or two rooms split in two. That being sai
 d\, this location was chosen for their larger accommodation capacity ðŸ˜‰.
  </p>\n<!-- /wp:paragraph -->\n\n<!-- wp:paragraph -->\n<p>The location is
  somewhat isolated from downtown Montreal\, but I will be offering carpool
  services for those in need. Swing by should you be curious to meet-up wit
 h your fellow Donâ€™t Dieâ€™ers! <br>-Anrif </p>\n<!-- /wp:paragraph -->\n
 \n<!-- wp:paragraph -->\n<p>(Specific time to be determined later with gro
 up reservations)</p>\n<!-- /wp:paragraph -->
URL:https://www.wecontinue.org/events/dd-mtl-escaparium-escape-room-time-tb
 d/
LAST-MODIFIED:20250317T201424Z
CREATED:20250219T215130Z
BEGIN:VALARM
TRIGGER:-PT1H
ACTION:DISPLAY
DESCRIPTION:Event reminder
END:VALARM
END:VEVENT
END:VCALENDAR
